BEGIN:VCALENDAR
VERSION:2.0
PRODID:-// - ECPv6.15.20//NONSGML v1.0//EN
CALSCALE:GREGORIAN
METHOD:PUBLISH
X-ORIGINAL-URL:https://sewhouston.com
X-WR-CALDESC:Events for 
REFRESH-INTERVAL;VALUE=DURATION:PT1H
X-Robots-Tag:noindex
X-PUBLISHED-TTL:PT1H
BEGIN:VTIMEZONE
TZID:America/Chicago
BEGIN:DAYLIGHT
TZOFFSETFROM:-0600
TZOFFSETTO:-0500
TZNAME:CDT
DTSTART:20200308T080000
END:DAYLIGHT
BEGIN:STANDARD
TZOFFSETFROM:-0500
TZOFFSETTO:-0600
TZNAME:CST
DTSTART:20201101T070000
END:STANDARD
BEGIN:DAYLIGHT
TZOFFSETFROM:-0600
TZOFFSETTO:-0500
TZNAME:CDT
DTSTART:20210314T080000
END:DAYLIGHT
BEGIN:STANDARD
TZOFFSETFROM:-0500
TZOFFSETTO:-0600
TZNAME:CST
DTSTART:20211107T070000
END:STANDARD
BEGIN:DAYLIGHT
TZOFFSETFROM:-0600
TZOFFSETTO:-0500
TZNAME:CDT
DTSTART:20220313T080000
END:DAYLIGHT
BEGIN:STANDARD
TZOFFSETFROM:-0500
TZOFFSETTO:-0600
TZNAME:CST
DTSTART:20221106T070000
END:STANDARD
END:VTIMEZONE
BEGIN:VTIMEZONE
TZID:UTC
BEGIN:STANDARD
TZOFFSETFROM:+0000
TZOFFSETTO:+0000
TZNAME:UTC
DTSTART:20200101T000000
END:STANDARD
END:VTIMEZONE
BEGIN:VEVENT
DTSTART;TZID=America/Chicago:20210628T130000
DTEND;TZID=America/Chicago:20210701T160000
DTSTAMP:20260419T142033
CREATED:20190211T152316Z
LAST-MODIFIED:20210521T205255Z
UID:3361-1624885200-1625155200@sewhouston.com
SUMMARY:June PM Fashion Camp
DESCRIPTION:In this camp teens and tweens will delve into fashion sewing. We will make pillows\, pajamas and zippered bags. If your teen or tween has done one of these projects\, there are lots of fun variations we can add. They will not have to repeat a project unless they just want to. There will be group projects where we all make the same thing as well as time for them to experiment on a project of their choosing.
URL:https://sewhouston.com/event/june-pm-fashion-camp/
END:VEVENT
BEGIN:VEVENT
DTSTART;TZID=America/Chicago:20210628T090000
DTEND;TZID=America/Chicago:20210701T120000
DTSTAMP:20260419T142033
CREATED:20190211T151959Z
LAST-MODIFIED:20210318T171054Z
UID:3358-1624870800-1625140800@sewhouston.com
SUMMARY:June AM Fashion Camp
DESCRIPTION:In this camp teens and tweens ages 10+ will learn sewing basics and some fashion sewing. We will make pillows\, leggings and zippered bags. If your teen or tween has done one of these projects\, there are lots of fun variations we can add. They will not have to repeat a project unless they just want to. There will be group projects where we all make the same thing as well as time for them to experiment on a project of their choosing.
URL:https://sewhouston.com/event/june-am-fashion-camp-2/
ATTACH;FMTTYPE=image/jpeg:https://sewhouston.com/cms/wp-content/uploads/2017/12/IMG_2120-scaled.jpg
END:VEVENT
BEGIN:VEVENT
DTSTART;TZID=America/Chicago:20210621T100000
DTEND;TZID=America/Chicago:20210624T130000
DTSTAMP:20260419T142033
CREATED:20210422T135329Z
LAST-MODIFIED:20210422T135329Z
UID:4987-1624269600-1624539600@sewhouston.com
SUMMARY:Private Group Sew Camp
DESCRIPTION:This is a private group sew camp. If you have a group that would you like to schedule\, please email me yolanda@sewhouston.com. \nIn this camp\, we will make a array of projects including a pillow or stuffed animal\, something to wear like a skirt or pair of pajama shorts and girls will have choice in what they would like to make.
URL:https://sewhouston.com/event/private-group-sew-camp/
ATTACH;FMTTYPE=image/jpeg:https://sewhouston.com/cms/wp-content/uploads/2018/06/IMG_2718.jpg
END:VEVENT
BEGIN:VEVENT
DTSTART;TZID=America/Chicago:20210619T120000
DTEND;TZID=America/Chicago:20210619T140000
DTSTAMP:20260419T142033
CREATED:20210605T210958Z
LAST-MODIFIED:20210605T210958Z
UID:5191-1624104000-1624111200@sewhouston.com
SUMMARY:Saturday Kid/Tween Intro.
DESCRIPTION:Got a kid or tween who wants to sew\, but can’t make it to Sew Camp? \nThis is an introduction to sewing for ages 7-13. Here students will learn all of the basics of sewing and make a tote bag to take home. There is absolutely no experience necessary\, and all materials will be provided.
URL:https://sewhouston.com/event/saturday-kid-tween-intro/
ATTACH;FMTTYPE=image/jpeg:https://sewhouston.com/cms/wp-content/uploads/2015/02/sew-party-tote.jpg
END:VEVENT
BEGIN:VEVENT
DTSTART;TZID=America/Chicago:20210607T130000
DTEND;TZID=America/Chicago:20210610T160000
DTSTAMP:20260419T142033
CREATED:20190211T151238Z
LAST-MODIFIED:20210521T210004Z
UID:3353-1623070800-1623340800@sewhouston.com
SUMMARY:June PM Kids Camp
DESCRIPTION:Summer is a great time to learn or practice a new skill. Sewing is the prefect blend of brain work and creativity\, but mostly\, it’s a lot of fun.\nThis camp is designed for kids 6-10 who are interested in making a wide array of projects including stuffed animals and pillows\, as well as a bag and a pair of simple shorts.\nThere is absolutely no experience necessary and sewing machines are provided.
URL:https://sewhouston.com/event/june-pm-kids-camp-2/
ATTACH;FMTTYPE=image/jpeg:https://sewhouston.com/cms/wp-content/uploads/2019/02/IMG_1930-scaled.jpg
END:VEVENT
BEGIN:VEVENT
DTSTART;TZID=America/Chicago:20210605T120000
DTEND;TZID=America/Chicago:20210605T133000
DTSTAMP:20260419T142033
CREATED:20210526T125112Z
LAST-MODIFIED:20210526T125112Z
UID:5115-1622894400-1622899800@sewhouston.com
SUMMARY:June 5th Intro. Afternoon
DESCRIPTION:If you’ve wanted to learn to sew\, or need a refresher course\, this is the class for you. We will make a tote bag from a pattern and you will lay the foundation for all future sewing projects. We will cover pattern reading\, pinning\, cutting\, using a sewing machine.\nSewing machines are provided. If you have a sewing machine and would like a one-on-one lesson on how to use it\, you can email me to set up a private lesson. If you have a machine that you are comfortable using\, you are welcome to bring it.
URL:https://sewhouston.com/event/june-5th-intro-afternoon/
ATTACH;FMTTYPE=image/jpeg:https://sewhouston.com/cms/wp-content/uploads/2015/02/tote-class-scaled.jpg
END:VEVENT
BEGIN:VEVENT
DTSTART;TZID=America/Chicago:20210605T100000
DTEND;TZID=America/Chicago:20210605T113000
DTSTAMP:20260419T142033
CREATED:20210511T123917Z
LAST-MODIFIED:20210511T124057Z
UID:5049-1622887200-1622892600@sewhouston.com
SUMMARY:Intro. to Sewing
DESCRIPTION:If you’ve wanted to learn to sew\, or need a refresher course\, this is the class for you. We will make a tote bag from a pattern and you will lay the foundation for all future sewing projects. We will cover pattern reading\, pinning\, cutting\, using a sewing machine.\nSewing machines are provided. If you have a sewing machine and would like a one-on-one lesson on how to use it\, you can email me to set up a private lesson. If you have a machine that you are comfortable using\, you are welcome to bring it.
URL:https://sewhouston.com/event/intro-to-sewing-19/
ATTACH;FMTTYPE=image/jpeg:https://sewhouston.com/cms/wp-content/uploads/2018/06/IMG_2718.jpg
END:VEVENT
BEGIN:VEVENT
DTSTART;TZID=America/Chicago:20210526T100000
DTEND;TZID=America/Chicago:20210527T130000
DTSTAMP:20260419T142033
CREATED:20210517T151202Z
LAST-MODIFIED:20210517T151319Z
UID:5080-1622023200-1622120400@sewhouston.com
SUMMARY:Carolyn Pajama Class
DESCRIPTION:These pajamas are well tailored and built for lounging. Once you learn to make them\, you will want to make many more. This workshop is filled with great tools to have in your sewing tool kit such as\, making a notched color\, using piping\, making buttonholes and so much more. \nWe will meet on the following days: \nWed. May 26th 10-1 \nThurs. May 27th 10-1 \nWed. June 2nd 10-1
URL:https://sewhouston.com/event/carolyn-pajama-class/
ATTACH;FMTTYPE=image/jpeg:https://sewhouston.com/cms/wp-content/uploads/2021/05/carolyn-pajamas.jpg
END:VEVENT
BEGIN:VEVENT
DTSTART;TZID=America/Chicago:20210520T113000
DTEND;TZID=America/Chicago:20210520T130000
DTSTAMP:20260419T142033
CREATED:20201202T161822Z
LAST-MODIFIED:20210513T135839Z
UID:4579-1621510200-1621515600@sewhouston.com
SUMMARY:Intro to Sewing
DESCRIPTION:If you’ve wanted to learn to sew\, or need a refresher course\, this is the class for you. We will make a tote bag from a pattern and you will lay the foundation for all future sewing projects. We will cover pattern reading\, pinning\, cutting\, using a sewing machine.\nSewing machines are provided. If you have a sewing machine and would like a one-on-one lesson on how to use it\, you can email me to set up a private lesson. If you have a machine that you are comfortable using\, you are welcome to bring it.
URL:https://sewhouston.com/event/intro-to-sewing-14/
ATTACH;FMTTYPE=image/jpeg:https://sewhouston.com/cms/wp-content/uploads/2018/06/IMG_2718.jpg
END:VEVENT
BEGIN:VEVENT
DTSTART;TZID=UTC:20210515T100000
DTEND;TZID=UTC:20210515T113000
DTSTAMP:20260419T142033
CREATED:20160706T172942Z
LAST-MODIFIED:20210511T122938Z
UID:538-1621072800-1621078200@sewhouston.com
SUMMARY:Zippered Pillows
DESCRIPTION:Over come your fear of zippers and leave with a pair of throw pillows. This is a great class for anyone who new to zippers\, or needs a refresher. I promise you will be surprised at how easy it is! \n 
URL:https://sewhouston.com/event/zipper-class-2/
ATTACH;FMTTYPE=image/jpeg:https://sewhouston.com/cms/wp-content/uploads/2015/02/11005073_628306070635778_2081301947_n1.jpg
END:VEVENT
BEGIN:VEVENT
DTSTART;TZID=America/Chicago:20210429T110000
DTEND;TZID=America/Chicago:20210429T123000
DTSTAMP:20260419T142033
CREATED:20210308T180340Z
LAST-MODIFIED:20210420T005948Z
UID:4880-1619694000-1619699400@sewhouston.com
SUMMARY:April Intro. to Sewing
DESCRIPTION:If you’ve wanted to learn to sew\, or need a refresher course\, this is the class for you. We will make a tote bag from a pattern and you will lay the foundation for all future sewing projects. We will cover pattern reading\, pinning\, cutting\, using a sewing machine.\nSewing machines are provided. If you have a sewing machine and would like a one-on-one lesson on how to use it\, you can email me to set up a private lesson. If you have a machine that you are comfortable using\, you are welcome to bring it.
URL:https://sewhouston.com/event/april-intro-to-sewing/
ATTACH;FMTTYPE=image/jpeg:https://sewhouston.com/cms/wp-content/uploads/2015/02/tote-class-scaled.jpg
END:VEVENT
BEGIN:VEVENT
DTSTART;TZID=America/Chicago:20210424T100000
DTEND;TZID=America/Chicago:20210424T120000
DTSTAMP:20260419T142033
CREATED:20210315T013954Z
LAST-MODIFIED:20210418T185125Z
UID:4899-1619258400-1619265600@sewhouston.com
SUMMARY:Indigo Pillow
DESCRIPTION:In this class you will learn to make a 24 inch boutique Indigo pillow. If you have been to Roundtop or a fancy boutique\, you have probably seen these pillows for $200. In this class\, you will choose your dyed indigo piece\, for the front\, and a high quality linen for the back. We will make a concealed zipper for a high end finish.
URL:https://sewhouston.com/event/indigo-pillow/
ATTACH;FMTTYPE=image/jpeg:https://sewhouston.com/cms/wp-content/uploads/2021/03/IMG_E5202.jpg
END:VEVENT
BEGIN:VEVENT
DTSTART;TZID=America/Chicago:20210417T120000
DTEND;TZID=America/Chicago:20210417T160000
DTSTAMP:20260419T142033
CREATED:20210223T140317Z
LAST-MODIFIED:20210308T200839Z
UID:4856-1618660800-1618675200@sewhouston.com
SUMMARY:Bikini Class
DESCRIPTION:If you’ve ever dreamt of making your own swimwear this is the class for you!  Sign up for this fun workshop to learn how to make the adorable Vernazza Two Piece by Friday Pattern Co.  We will cover the basics of sewing swimwear including: \n  \n\nCutting and sewing techniques for stretch fabrics\nApplying rubber swimwear elastic\nSimple pattern alterations to customize your fit\n\n  \n  \nStudents will be required to purchase the pdf pattern and appropriate materials prior to class. Resource links will be included on the supply list for sourcing materials. \nPattern link: Vernazza Two Piece – PDF Pattern – Friday Pattern Company
URL:https://sewhouston.com/event/bikini-class/
ATTACH;FMTTYPE=image/jpeg:https://sewhouston.com/cms/wp-content/uploads/2021/02/bikini.jpg
END:VEVENT
BEGIN:VEVENT
DTSTART;TZID=America/Chicago:20210417T100000
DTEND;TZID=America/Chicago:20210417T233000
DTSTAMP:20260419T142033
CREATED:20210412T132048Z
LAST-MODIFIED:20210412T132758Z
UID:4953-1618653600-1618702200@sewhouston.com
SUMMARY:Intro. to Sewing
DESCRIPTION:If you are interested in learning to sew\, or need a refresher course\, this is the best place to start. In the Intro. to Sewing class you will learn the basics of pattern reading\, how to pin\, cut and handle fabric\, as well as the basics technique and terminology that will help you with all future projects. You will make a tote bag. \nSewing machines and all necessary tools are provided for your use. If you have a sewing machine that you would like to learn to use\, please message me and we can set up a one-on-one session for that.
URL:https://sewhouston.com/event/intro-to-sewing-18/
ATTACH;FMTTYPE=image/jpeg:https://sewhouston.com/cms/wp-content/uploads/2018/11/IMG_3552-scaled.jpg
END:VEVENT
BEGIN:VEVENT
DTSTART;TZID=America/Chicago:20210410T100000
DTEND;TZID=America/Chicago:20210410T113000
DTSTAMP:20260419T142033
CREATED:20210401T130955Z
LAST-MODIFIED:20210401T130955Z
UID:4930-1618048800-1618054200@sewhouston.com
SUMMARY:Private Mother/Daughter Event Allison C.
DESCRIPTION:This is a private event – if you would like to schedule your own class\, please email me yolanda@sewhouston.com \nIn this Intro. to Sewing\, you will learn the basics of sewing including\, pattern reading\, pinning and cutting\, how to handle fabric and make a tote bag.
URL:https://sewhouston.com/event/private-mother-daughter-event-allison-c/
ATTACH;FMTTYPE=image/jpeg:https://sewhouston.com/cms/wp-content/uploads/2015/02/tote-class-scaled.jpg
END:VEVENT
BEGIN:VEVENT
DTSTART;TZID=America/Chicago:20210408T140000
DTEND;TZID=America/Chicago:20210408T153000
DTSTAMP:20260419T142033
CREATED:20210331T152431Z
LAST-MODIFIED:20210331T152431Z
UID:4925-1617890400-1617895800@sewhouston.com
SUMMARY:Indigo Pillow
DESCRIPTION:In this class you will learn to make a 25 inch boutique Indigo pillow. If you have been to Roundtop or a fancy boutique\, you have probably seen these pillows for $200. In this class\, you will choose your dyed indigo piece\, for the front\, and a high quality linen for the back. We will make a concealed zipper for a high end finish.
URL:https://sewhouston.com/event/indigo-pillow-2/
ATTACH;FMTTYPE=image/jpeg:https://sewhouston.com/cms/wp-content/uploads/2021/03/indigo.jpg
END:VEVENT
BEGIN:VEVENT
DTSTART;TZID=America/Chicago:20210315T120000
DTEND;TZID=America/Chicago:20210317T140000
DTSTAMP:20260419T142033
CREATED:20210106T203414Z
LAST-MODIFIED:20210106T212412Z
UID:4747-1615809600-1615989600@sewhouston.com
SUMMARY:Teen/Tween Sew camp
DESCRIPTION:This sew camp is for teens and tweens ages 11-18. We will be making a project from a pattern. Girls will have a few patterns to choose from including a top\, dress\, or a pair of leggings.  This is for beginners and experienced sewists. Everyone will be able to work at their own level. \n 
URL:https://sewhouston.com/event/teen-tween-sew-camp/
ATTACH;FMTTYPE=image/jpeg:https://sewhouston.com/cms/wp-content/uploads/2020/01/Bella-Colorblock4-e1609881626382.jpg
END:VEVENT
BEGIN:VEVENT
DTSTART;TZID=America/Chicago:20210315T100000
DTEND;TZID=America/Chicago:20210317T120000
DTSTAMP:20260419T142033
CREATED:20210106T202732Z
LAST-MODIFIED:20210301T205233Z
UID:4744-1615802400-1615982400@sewhouston.com
SUMMARY:Sew Camp
DESCRIPTION:This kid camp is great for children 7-10 who are interested in learning to sew. We will make a variety of projects including a stuffed animal and a pair of shorts. \nThere is absolutely no experience necessary and all materials are provided.
URL:https://sewhouston.com/event/sew-camp/
ATTACH;FMTTYPE=image/jpeg:https://sewhouston.com/cms/wp-content/uploads/2019/02/IMG_1923-scaled.jpg
END:VEVENT
BEGIN:VEVENT
DTSTART;TZID=America/Chicago:20210313T100000
DTEND;TZID=America/Chicago:20210313T120000
DTSTAMP:20260419T142033
CREATED:20210308T171810Z
LAST-MODIFIED:20210308T171810Z
UID:4878-1615629600-1615636800@sewhouston.com
SUMMARY:Sammi's Party - Private Event
DESCRIPTION:It’s Sammi’s birthday! Come celebrate with a Sew party. Every guest will sew their own schnauzer stuffed animal. There is no experience necessary and all materials are provided. \nSew is located at 7710 Cherry Park\, Houston Tx. 77095
URL:https://sewhouston.com/event/sammis-party-private-event/
ATTACH;FMTTYPE=image/jpeg:https://sewhouston.com/cms/wp-content/uploads/2015/02/cake.jpg
END:VEVENT
BEGIN:VEVENT
DTSTART;TZID=America/Chicago:20210306T120000
DTEND;TZID=America/Chicago:20210306T133000
DTSTAMP:20260419T142033
CREATED:20201128T164245Z
LAST-MODIFIED:20210301T203022Z
UID:4554-1615032000-1615037400@sewhouston.com
SUMMARY:Intro. to Sewing
DESCRIPTION:If you’ve wanted to learn to sew\, or need a refresher course\, this is the class for you. We will make a tote bag from a pattern and you will lay the foundation for all future sewing projects. We will cover pattern reading\, pinning\, cutting\, using a sewing machine.\nSewing machines are provided. If you have a sewing machine and would like a one-on-one lesson on how to use it\, you can email me to set up a private lesson. If you have a machine that you are comfortable using\, you are welcome to bring it.
URL:https://sewhouston.com/event/intro-to-sewing-13/
ATTACH;FMTTYPE=image/jpeg:https://sewhouston.com/cms/wp-content/uploads/2018/11/IMG_3552-scaled.jpg
END:VEVENT
BEGIN:VEVENT
DTSTART;TZID=America/Chicago:20210306T100000
DTEND;TZID=America/Chicago:20210306T113000
DTSTAMP:20260419T142033
CREATED:20201116T204121Z
LAST-MODIFIED:20210106T212711Z
UID:4526-1615024800-1615030200@sewhouston.com
SUMMARY:Intro. to sewing
DESCRIPTION:If you’ve wanted to learn to sew\, or need a refresher course\, this is the class for you. We will make a tote bag from a pattern and you will lay the foundation for all future sewing projects. We will cover pattern reading\, pinning\, cutting\, using a sewing machine.\nSewing machines are provided. If you have a sewing machine and would like a one-on-one lesson on how to use it\, you can email me to set up a private lesson. If you have a machine that you are comfortable using\, you are welcome to bring it.
URL:https://sewhouston.com/event/intro-to-sewing-12/
ATTACH;FMTTYPE=image/jpeg:https://sewhouston.com/cms/wp-content/uploads/2018/06/IMG_2718.jpg
END:VEVENT
BEGIN:VEVENT
DTSTART;TZID=America/Chicago:20210221T120000
DTEND;TZID=America/Chicago:20210221T133000
DTSTAMP:20260419T142033
CREATED:20200825T023828Z
LAST-MODIFIED:20210121T131254Z
UID:4389-1613908800-1613914200@sewhouston.com
SUMMARY:Zipper class
DESCRIPTION:In this class you will learn how to install a centered all-purpose zipper and make a set of throw pillows. There is no experience necessary\, but it’s a good idea to take the Intro. to Sewing class first.
URL:https://sewhouston.com/event/zipper-class/
ATTACH;FMTTYPE=image/jpeg:https://sewhouston.com/cms/wp-content/uploads/2015/02/11005073_628306070635778_2081301947_n1.jpg
END:VEVENT
BEGIN:VEVENT
DTSTART;TZID=America/Chicago:20210220T120000
DTEND;TZID=America/Chicago:20210220T140000
DTSTAMP:20260419T142033
CREATED:20210107T193404Z
LAST-MODIFIED:20210107T193427Z
UID:4753-1613822400-1613829600@sewhouston.com
SUMMARY:Leggings
DESCRIPTION:Lounge wear is more important than ever now. Whether you want them for lounging\, or  yoga\, you will want to live in this great pair of leggings. Learn to make your own comfy or athletic leggings. Since you are choosing the fabric\, you can make them as wild or as basic as your heart desires. \nGreat beginner class
URL:https://sewhouston.com/event/leggings-2/
ATTACH;FMTTYPE=image/jpeg:https://sewhouston.com/cms/wp-content/uploads/2021/01/leggings.jpg
END:VEVENT
BEGIN:VEVENT
DTSTART;TZID=America/Chicago:20210220T100000
DTEND;TZID=America/Chicago:20210220T113000
DTSTAMP:20260419T142033
CREATED:20210117T225833Z
LAST-MODIFIED:20210212T220642Z
UID:4790-1613815200-1613820600@sewhouston.com
SUMMARY:Intro. to Sewing
DESCRIPTION:If you’ve wanted to learn to sew\, or need a refresher course\, this is the class for you. We will make a tote bag from a pattern and you will lay the foundation for all future sewing projects. We will cover pattern reading\, pinning\, cutting\, using a sewing machine.\nSewing machines are provided. If you have a sewing machine and would like a one-on-one lesson on how to use it\, you can email me to set up a private lesson. If you have a machine that you are comfortable using\, you are welcome to bring it.
URL:https://sewhouston.com/event/intro-to-sewing-17/
ATTACH;FMTTYPE=image/jpeg:https://sewhouston.com/cms/wp-content/uploads/2015/02/tote-class-scaled.jpg
END:VEVENT
BEGIN:VEVENT
DTSTART;TZID=America/Chicago:20210215T100000
DTEND;TZID=America/Chicago:20210215T130000
DTSTAMP:20260419T142033
CREATED:20210121T134145Z
LAST-MODIFIED:20210210T232723Z
UID:4799-1613383200-1613394000@sewhouston.com
SUMMARY:Kid/tween out of school sewing
DESCRIPTION:Since it’s a school holiday\, it’s a prefect time to come to a Sewing class. In this session we will make a pair of leggings. No experience necessary.
URL:https://sewhouston.com/event/kid-tween-out-of-school-sewing/
ATTACH;FMTTYPE=image/jpeg:https://sewhouston.com/cms/wp-content/uploads/2021/01/IMG_0414.jpg
END:VEVENT
BEGIN:VEVENT
DTSTART;TZID=America/Chicago:20210211T173000
DTEND;TZID=America/Chicago:20210211T190000
DTSTAMP:20260419T142033
CREATED:20200104T151806Z
LAST-MODIFIED:20210121T132317Z
UID:4089-1613064600-1613070000@sewhouston.com
SUMMARY:Afterschool Spring Semester
DESCRIPTION:Looking for a fun afterschool activity for your 8-13 year old? Sewing is the perfect combination of creativity and brain work. In this semester\, we will make a variety of projects great for beginners and experience sewists alike. \nWe will meet 5:30-7 on the following dates: \nFeb. 11\nFeb. 25\nMarch 11\nMarch 24 (we have to meet on Wed. this week)\nApril 8\nApril 22 \nThe cost for the semester is $150 (9 hours of sewing) Payable in 3 payments of $50. \nAny questions? Email me yolanda@sewhouston.com
URL:https://sewhouston.com/event/afterschool-spring-semester/
ATTACH;FMTTYPE=image/jpeg:https://sewhouston.com/cms/wp-content/uploads/2020/01/Bella-Colorblock4-e1609881626382.jpg
END:VEVENT
BEGIN:VEVENT
DTSTART;TZID=America/Chicago:20210210T120000
DTEND;TZID=America/Chicago:20210210T133000
DTSTAMP:20260419T142033
CREATED:20200104T151226Z
LAST-MODIFIED:20210105T214600Z
UID:4086-1612958400-1612963800@sewhouston.com
SUMMARY:Homeschool Spring Semester Ages 11-18
DESCRIPTION:Do you have a homeschooler who sews or is interested in learning? In this semester\, girls and boys ages 11 and up will choose a pattern to make. New sewists will have several beginner projects to choose from during the semester. There is no experience necessary\, and sewing machines are provided. \nThe cost for the semester is $150 (9 hours of sewing) payable in 3 payments of $50 \nWe will meet from 12:00-1:30 on the following days \nFeb. 10\nFeb. 24\nMarch 10\nMarch 24\nApril 7\nApril 21 \nIf you have any questions\, please email me yolanda@sewhouston.com \n 
URL:https://sewhouston.com/event/homeschool-sewing-spring-semester/
ATTACH;FMTTYPE=image/jpeg:https://sewhouston.com/cms/wp-content/uploads/2020/01/Bella-Colorblock4-e1609881626382.jpg
END:VEVENT
BEGIN:VEVENT
DTSTART;TZID=America/Chicago:20210210T100000
DTEND;TZID=America/Chicago:20210210T113000
DTSTAMP:20260419T142033
CREATED:20210105T214257Z
LAST-MODIFIED:20210105T215002Z
UID:4724-1612951200-1612956600@sewhouston.com
SUMMARY:Homeschool Spring Semester ages 7-10
DESCRIPTION:Do you have a homeschooler who sews or is interested in learning? In this semester\, girls and boys ages 7-10 will learn to sew a variety of projects including stuffed animals\, home décor and more. \nThe cost for the semester is $150 (9 hours of sewing) payable in 3 payments of $50 \nWe will meet from 10:00-11:30 on the following days: \nFeb. 10\nFeb. 24\nMarch 10\nMarch 24\nApril 7\nApril 21 \nIf you have any questions\, please email me yolanda@sewhouston.com \n 
URL:https://sewhouston.com/event/4724/
ATTACH;FMTTYPE=image/jpeg:https://sewhouston.com/cms/wp-content/uploads/2021/01/IMG_E44431.jpg
END:VEVENT
BEGIN:VEVENT
DTSTART;TZID=America/Chicago:20210130T100000
DTEND;TZID=America/Chicago:20210130T170000
DTSTAMP:20260419T142033
CREATED:20210101T225536Z
LAST-MODIFIED:20210101T225536Z
UID:4693-1612000800-1612026000@sewhouston.com
SUMMARY:Lingerie Workshop
DESCRIPTION:Make your own lingerie set just in time for Valentine’s Day! \nIn this 6-hour workshop is brought to you by Tricia Padich of  Gamine Studios\, you will learn the ins-and-outs of lingerie-making\, and the essential techniques required to make a soft bralette and panty. \nYou will learn how to: \n\nChoose appropriate materials and trims\nWork with delicate fabrics\nApply picot\, fold over\, and strap elastics\nMake adjustable straps\nMake pattern and design adjustments to suit your unique needs\n\n  \nWe will be making the Lana Bra and Vicki Hipster from Made For Mermaids.  Each student will be required to purchase the PDF patterns and required materials before the workshop.  Material kits will also be made available for purchase if you prefer not to source supplies on your own.  This is an intermediate class. Please be comfortable sewing with stretch fabrics! If have not worked with knits before\, Sew offers a leggings and a cardigan class that would a prefect introduction. \nSewing machines are provided\, but you are welcome to bring yours if you would like.
URL:https://sewhouston.com/event/lingerie-workshop/
ATTACH;FMTTYPE=image/jpeg:https://sewhouston.com/cms/wp-content/uploads/2021/01/lingerie-workshop.jpg
END:VEVENT
BEGIN:VEVENT
DTSTART;TZID=America/Chicago:20210121T110000
DTEND;TZID=America/Chicago:20210121T130000
DTSTAMP:20260419T142033
CREATED:20170819T161202Z
LAST-MODIFIED:20210107T193757Z
UID:1975-1611226800-1611234000@sewhouston.com
SUMMARY:Leggings
DESCRIPTION:Lounge wear is more important than ever now. Whether you want them for lounging\, or doing yoga\, you will want to live in this great pair of leggings. Learn to make your own comfy or athletic leggings. Since you are choosing the fabric\, you can make them as wild or as basic as your heart desires. \nGreat beginner class \n 
URL:https://sewhouston.com/event/leggings/
ATTACH;FMTTYPE=image/jpeg:https://sewhouston.com/cms/wp-content/uploads/2017/08/IMG_3152-scaled.jpg
END:VEVENT
END:VCALENDAR