BEGIN:VCALENDAR
VERSION:2.0
PRODID:-// - ECPv6.15.20//NONSGML v1.0//EN
CALSCALE:GREGORIAN
METHOD:PUBLISH
X-ORIGINAL-URL:https://sewhouston.com
X-WR-CALDESC:Events for 
REFRESH-INTERVAL;VALUE=DURATION:PT1H
X-Robots-Tag:noindex
X-PUBLISHED-TTL:PT1H
BEGIN:VTIMEZONE
TZID:America/Chicago
BEGIN:DAYLIGHT
TZOFFSETFROM:-0600
TZOFFSETTO:-0500
TZNAME:CDT
DTSTART:20180311T080000
END:DAYLIGHT
BEGIN:STANDARD
TZOFFSETFROM:-0500
TZOFFSETTO:-0600
TZNAME:CST
DTSTART:20181104T070000
END:STANDARD
BEGIN:DAYLIGHT
TZOFFSETFROM:-0600
TZOFFSETTO:-0500
TZNAME:CDT
DTSTART:20190310T080000
END:DAYLIGHT
BEGIN:STANDARD
TZOFFSETFROM:-0500
TZOFFSETTO:-0600
TZNAME:CST
DTSTART:20191103T070000
END:STANDARD
BEGIN:DAYLIGHT
TZOFFSETFROM:-0600
TZOFFSETTO:-0500
TZNAME:CDT
DTSTART:20200308T080000
END:DAYLIGHT
BEGIN:STANDARD
TZOFFSETFROM:-0500
TZOFFSETTO:-0600
TZNAME:CST
DTSTART:20201101T070000
END:STANDARD
BEGIN:DAYLIGHT
TZOFFSETFROM:-0600
TZOFFSETTO:-0500
TZNAME:CDT
DTSTART:20210314T080000
END:DAYLIGHT
BEGIN:STANDARD
TZOFFSETFROM:-0500
TZOFFSETTO:-0600
TZNAME:CST
DTSTART:20211107T070000
END:STANDARD
END:VTIMEZONE
BEGIN:VTIMEZONE
TZID:UTC
BEGIN:STANDARD
TZOFFSETFROM:+0000
TZOFFSETTO:+0000
TZNAME:UTC
DTSTART:20180101T000000
END:STANDARD
END:VTIMEZONE
BEGIN:VEVENT
DTSTART;TZID=America/Chicago:20200910T110000
DTEND;TZID=America/Chicago:20200910T123000
DTSTAMP:20260422T014508
CREATED:20200610T193524Z
LAST-MODIFIED:20200908T121915Z
UID:4308-1599735600-1599741000@sewhouston.com
SUMMARY:Intro. to Sewing
DESCRIPTION:If you’ve wanted to learn to sew\, or need a refresher course\, this is the class for you. We will make a tote bag from a pattern and you will lay the foundation for all future sewing projects. We will cover pattern reading\, pinning\, cutting\, using a sewing machine. \nSewing machines are provided. If you have a sewing machine and would like a one-on-one lesson on how to use it\, you can email me to set up a private lesson. If you have a machine that you are comfortable using\, you are welcome to bring it. \n 
URL:https://sewhouston.com/event/intro-to-sewing-10/
ATTACH;FMTTYPE=image/jpeg:https://sewhouston.com/cms/wp-content/uploads/2018/06/IMG_2718.jpg
END:VEVENT
BEGIN:VEVENT
DTSTART;TZID=America/Chicago:20200810T100000
DTEND;TZID=America/Chicago:20200813T010000
DTSTAMP:20260422T014508
CREATED:20160307T233140Z
LAST-MODIFIED:20200806T115827Z
UID:1014-1597053600-1597280400@sewhouston.com
SUMMARY:August AM Sew camp
DESCRIPTION:In this camp girls and boys will choose from a wide array of projects including home décor and fashion.  \nBeginners are welcome\, but it is a good idea to take my Sewing Basics beforehand if possible.  \nSew is equipped with sewing machines and all of the notions and tools needed. You will only provide fabric.
URL:https://sewhouston.com/event/august-am-fashion/
ATTACH;FMTTYPE=image/jpeg:https://sewhouston.com/cms/wp-content/uploads/2016/03/sigma-dresses.jpg
END:VEVENT
BEGIN:VEVENT
DTSTART;TZID=America/Chicago:20200803T130000
DTEND;TZID=America/Chicago:20200806T160000
DTSTAMP:20260422T014508
CREATED:20170317T112110Z
LAST-MODIFIED:20200629T131716Z
UID:1706-1596459600-1596729600@sewhouston.com
SUMMARY:August PM Sew Camp
DESCRIPTION:In this camp we will make a variety of fun projects. This will be more of an intermediate session designed for sewists who have been to camp before to extend their skills.  Great for ages 9-13. \nNo need to bring a sewing machine\, Sew is fully equipped with everything we will need. You only provide fabric.
URL:https://sewhouston.com/event/august-advanced-camp/
ATTACH;FMTTYPE=image/jpeg:https://sewhouston.com/cms/wp-content/uploads/2017/03/camp.jpg
END:VEVENT
BEGIN:VEVENT
DTSTART;TZID=America/Chicago:20200727T130000
DTEND;TZID=America/Chicago:20200730T160000
DTSTAMP:20260422T014508
CREATED:20170317T111422Z
LAST-MODIFIED:20200121T193656Z
UID:1703-1595854800-1596124800@sewhouston.com
SUMMARY:July PM Teen Camp - Summer Fun Projects
DESCRIPTION:In this session\, we will be making an array of summer fun projects including a layout towel\, a floor pouf\, and possibly a simple bathing suit cover up. Unlike the other advanced sessions\, this one is not focused on making clothes\, but rather an array of home décor and (fun)ctional summer projects. Experience is great\, but not a must. If your child would like to gain a bit of experience before attending camp\, my Intro. to Sewing Saturday classes provide a great foundation for future projects.\nSew is fully equipped with machines and all of the tools we will need. Students only need to provide fabrics.
URL:https://sewhouston.com/event/july-pm-teen-camp/
ATTACH;FMTTYPE=image/jpeg:https://sewhouston.com/cms/wp-content/uploads/2016/05/IMG_9989.jpg
END:VEVENT
BEGIN:VEVENT
DTSTART;TZID=America/Chicago:20200727T090000
DTEND;TZID=America/Chicago:20200730T120000
DTSTAMP:20260422T014508
CREATED:20190211T154644Z
LAST-MODIFIED:20200715T001058Z
UID:3375-1595840400-1596110400@sewhouston.com
SUMMARY:July AM Teen/Tween Camp
DESCRIPTION:In this camp teens and tweens ages 10+ will learn sewing basics and some fashion sewing. We will make pillows\, leggings and zippered bags. If your teen or tween has done one of these projects\, there are lots of fun variations we can add. They will not have to repeat a project unless they just want to. There will be group projects where we all make the same thing as well as time for them to experiment on a project of their choosing. \nIf your child took this class last summer\, no worries\, we have all new projects this Summer. \n 
URL:https://sewhouston.com/event/july-am-teen-tween-camp/
ATTACH;FMTTYPE=image/jpeg:https://sewhouston.com/cms/wp-content/uploads/2017/12/IMG_2120-scaled.jpg
END:VEVENT
BEGIN:VEVENT
DTSTART;TZID=America/Chicago:20200713T130000
DTEND;TZID=America/Chicago:20200716T160000
DTSTAMP:20260422T014508
CREATED:20170317T113723Z
LAST-MODIFIED:20200121T193151Z
UID:1714-1594645200-1594915200@sewhouston.com
SUMMARY:July PM Beginner Camp
DESCRIPTION:In this session\, beginners and kids 11 and under will sew their way though many projects including stuffed animals\, room décor and some personal projects. There is absolutely no experience necessary. I will teach them everything they need to know. No need to bring a machine either\, Sew is fully equipped. \nThis is a 12-hour session that meets for 3 hours a day Monday-Thursday.
URL:https://sewhouston.com/event/july-pm-beginner-camp/
ATTACH;FMTTYPE=image/jpeg:https://sewhouston.com/cms/wp-content/uploads/2017/03/IMG_1938-scaled.jpg
END:VEVENT
BEGIN:VEVENT
DTSTART;TZID=America/Chicago:20200711T100000
DTEND;TZID=America/Chicago:20200711T113000
DTSTAMP:20260422T014508
CREATED:20200106T154047Z
LAST-MODIFIED:20200617T151120Z
UID:4112-1594461600-1594467000@sewhouston.com
SUMMARY:Intro. to Sewing
DESCRIPTION:If you would like to learn to sew\, this is the class for you. Here you will learn the basics of sewing and lay the foundation for all future projects while making a handy tote bag.\nNo experience\, no problem\, most people who come to this small group class are absolute beginners\, so you will benefit from their questions and observations as well. Sewing machines are provided.\nGreat mother/father daughter or couples class. It is fun for all ages.
URL:https://sewhouston.com/event/intro-to-sewing-9/
ATTACH;FMTTYPE=image/jpeg:https://sewhouston.com/cms/wp-content/uploads/2018/06/IMG_2718.jpg
END:VEVENT
BEGIN:VEVENT
DTSTART;TZID=America/Chicago:20200622T090000
DTEND;TZID=America/Chicago:20200625T120000
DTSTAMP:20260422T014508
CREATED:20170317T104914Z
LAST-MODIFIED:20200121T191209Z
UID:1693-1592816400-1593086400@sewhouston.com
SUMMARY:June AM Teen Camp
DESCRIPTION:This session is for girls age 11 and up who are interested in sewing clothes. We will learn to make a pair of pajama pants or leggings and a dress in this session. \nSome experience is a good idea. I new seamstress may be better off taking my basics class before this session\, but it is not required. \nNo need to bring a sewing machine\, Sew is fully equipped with everything we will need. You only provide fabric. \n 
URL:https://sewhouston.com/event/june-am-teen-camp/
ATTACH;FMTTYPE=image/jpeg:https://sewhouston.com/cms/wp-content/uploads/2016/09/IMG_0964.jpg
END:VEVENT
BEGIN:VEVENT
DTSTART;TZID=America/Chicago:20200616T100000
DTEND;TZID=America/Chicago:20200618T130000
DTSTAMP:20260422T014508
CREATED:20190211T162548Z
LAST-MODIFIED:20210223T145625Z
UID:3381-1592301600-1592485200@sewhouston.com
SUMMARY:Summer Dollhouse Camp
DESCRIPTION:Dollhouse camp is an interior design and engineering camp for ages 5 and up. We are going to have a ton of fun designing furniture\, bedding\, curtains and accessories for this adorable dollhouse.\nThere will be a combination of hand and machine sewing as well as some very light/cardboard furniture building.\nEveryone will receive the dollhouse pictured.\n*Must register by June 1*
URL:https://sewhouston.com/event/summer-dollhouse-camp/
ATTACH;FMTTYPE=image/jpeg:https://sewhouston.com/cms/wp-content/uploads/2019/02/IMG_2219-scaled.jpg
END:VEVENT
BEGIN:VEVENT
DTSTART;TZID=America/Chicago:20200309T100000
DTEND;TZID=America/Chicago:20200310T120000
DTSTAMP:20260422T014508
CREATED:20200121T185408Z
LAST-MODIFIED:20200302T140653Z
UID:4170-1583748000-1583841600@sewhouston.com
SUMMARY:Spring Break Camp
DESCRIPTION:This 2-day camp if for ages 5 and up. Students will choose from a variety of projects including stuffed animals or a simple garment. There is no experience necessary\, and sewing machines are provided.
URL:https://sewhouston.com/event/spring-break-camp/
ATTACH;FMTTYPE=image/jpeg:https://sewhouston.com/cms/wp-content/uploads/2015/03/Janome-7330-Magnolia.jpg
END:VEVENT
BEGIN:VEVENT
DTSTART;TZID=America/Chicago:20200308T100000
DTEND;TZID=America/Chicago:20200308T113000
DTSTAMP:20260422T014508
CREATED:20200302T141653Z
LAST-MODIFIED:20200302T141653Z
UID:4256-1583661600-1583667000@sewhouston.com
SUMMARY:Sunday Intro to Sewing
DESCRIPTION:Sewing is easy when you start with a good foundation. In this class\, you will do just that. You will learn the basics of pattern reading\, handling fabric and machine sewing while you make a tote bag. Sewing machines are provided for your use.
URL:https://sewhouston.com/event/sunday-intro-to-sewing/
ATTACH;FMTTYPE=image/jpeg:https://sewhouston.com/cms/wp-content/uploads/2017/03/IMG_2718.jpg
END:VEVENT
BEGIN:VEVENT
DTSTART;TZID=America/Chicago:20200306T123000
DTEND;TZID=America/Chicago:20200306T140000
DTSTAMP:20260422T014508
CREATED:20191202T144027Z
LAST-MODIFIED:20200225T160457Z
UID:3990-1583497800-1583503200@sewhouston.com
SUMMARY:Intro. to Sewing
DESCRIPTION:This Intro to Sewing class will teach you the basics of sewing and lay the foundation for all future projects. This class is for absolute beginners\, or those who haven’t sewn in years. Sew is fully equipped with sewing machines so you only need to provide fabric. \nCome discover your new passion at Sew!
URL:https://sewhouston.com/event/intro-to-sewing-8/
ATTACH;FMTTYPE=image/jpeg:https://sewhouston.com/cms/wp-content/uploads/2018/11/IMG_3552-scaled.jpg
END:VEVENT
BEGIN:VEVENT
DTSTART;TZID=America/Chicago:20200222T100000
DTEND;TZID=America/Chicago:20200222T113000
DTSTAMP:20260422T014508
CREATED:20190826T133702Z
LAST-MODIFIED:20200220T181251Z
UID:3848-1582365600-1582371000@sewhouston.com
SUMMARY:Throw pillow class
DESCRIPTION:In this class you will learn to make a set of throw pillows\, and how to install a zipper. Perfect class for beginners and new sewists.
URL:https://sewhouston.com/event/throw-pillow-class-2/
ATTACH;FMTTYPE=image/jpeg:https://sewhouston.com/cms/wp-content/uploads/2015/02/11005073_628306070635778_2081301947_n1.jpg
END:VEVENT
BEGIN:VEVENT
DTSTART;TZID=UTC:20200208T120000
DTEND;TZID=UTC:20200208T150000
DTSTAMP:20260422T014508
CREATED:20150302T075837Z
LAST-MODIFIED:20200106T161555Z
UID:244-1581163200-1581174000@sewhouston.com
SUMMARY:Spindle Floor Pouf
DESCRIPTION:This fun pillow is great for any living room or bed room. Kids and pets are proven to love it! Excellent for beginners and sewists of all ages. \n 
URL:https://sewhouston.com/event/spindle-floor-pouf/
ATTACH;FMTTYPE=image/jpeg:https://sewhouston.com/cms/wp-content/uploads/2015/02/10598595_633769970102347_429599962_n4.jpg
END:VEVENT
BEGIN:VEVENT
DTSTART;TZID=America/Chicago:20200208T100000
DTEND;TZID=America/Chicago:20200208T113000
DTSTAMP:20260422T014508
CREATED:20200106T153827Z
LAST-MODIFIED:20200106T153827Z
UID:4109-1581156000-1581161400@sewhouston.com
SUMMARY:February Intro. to Sewing
DESCRIPTION:If you would like to learn to sew\, this is the class for you. Here you will learn the basics of sewing and lay the foundation for all future projects while making a handy tote bag. \nNo experience\, no problem\, most people who come to this small group class are absolute beginners\, so you will benefit from their questions and observations as well. Sewing machines are provided. \nGreat mother/father daughter or couples class. It is fun for all ages.
URL:https://sewhouston.com/event/february-intro-to-sewing/
ATTACH;FMTTYPE=image/jpeg:https://sewhouston.com/cms/wp-content/uploads/2018/11/IMG_3552-scaled.jpg
END:VEVENT
BEGIN:VEVENT
DTSTART;TZID=America/Chicago:20200207T100000
DTEND;TZID=America/Chicago:20200207T120000
DTSTAMP:20260422T014508
CREATED:20200104T152303Z
LAST-MODIFIED:20200106T155918Z
UID:4092-1581069600-1581076800@sewhouston.com
SUMMARY:Friday Homeschool Semester Begins
DESCRIPTION:This is a more advanced sewing class for those with a little experience under their belt. We tend to make fashion and crafts in this group. \nWe will meet on Fridays from 10:00-12:00 on the following dates: \nFeb. 7\nFeb. 21\nMarch 6\nMarch 20\nApril 3\nApril 17 \nThe cost for the semester is $200 (12 hours of sewing) Payable in 4 installments of $50 \nAny questions? Please email me yolanda@sewhouston.com
URL:https://sewhouston.com/event/friday-homeschool-4/
ATTACH;FMTTYPE=image/jpeg:https://sewhouston.com/cms/wp-content/uploads/2018/06/IMG_2718.jpg
END:VEVENT
BEGIN:VEVENT
DTSTART;TZID=America/Chicago:20200120T120000
DTEND;TZID=America/Chicago:20200120T150000
DTSTAMP:20260422T014508
CREATED:20191230T143156Z
LAST-MODIFIED:20191230T143156Z
UID:4063-1579521600-1579532400@sewhouston.com
SUMMARY:Teen/tween sweatshirt class
DESCRIPTION:This is a fun class for ages 10-14. We will be making a comfy sweatshirt. Some sewing experience is nice\, but not required. \n 
URL:https://sewhouston.com/event/teen-tween-sweatshirt-class/
ATTACH;FMTTYPE=image/jpeg:https://sewhouston.com/cms/wp-content/uploads/2019/12/IMG_9349-scaled.jpg
END:VEVENT
BEGIN:VEVENT
DTSTART;TZID=America/Chicago:20200120T100000
DTEND;TZID=America/Chicago:20200120T113000
DTSTAMP:20260422T014508
CREATED:20191230T165343Z
LAST-MODIFIED:20191230T165523Z
UID:4071-1579514400-1579519800@sewhouston.com
SUMMARY:Kid & Teen Intro. to Sewing
DESCRIPTION:Is your child 9-16 interested in sewing? This is the perfect place to start. There is no experience necessary\, and sewing machines are provided. All they need to bring is fabric. We will be making a tote bag and learning the basics of sewing.
URL:https://sewhouston.com/event/kid-teen-intro-to-sewing/
ATTACH;FMTTYPE=image/jpeg:https://sewhouston.com/cms/wp-content/uploads/2015/02/tote-class-2.jpg
END:VEVENT
BEGIN:VEVENT
DTSTART;TZID=America/Chicago:20200104T150000
DTEND;TZID=America/Chicago:20200104T163000
DTSTAMP:20260422T014508
CREATED:20190102T205727Z
LAST-MODIFIED:20191230T183412Z
UID:3214-1578150000-1578155400@sewhouston.com
SUMMARY:Intro. to Sewing
DESCRIPTION:If you want to learn to sew\, this is the class for you. Here you will learn the fundamentals of sewing including\, basic pattern reading\, cutting\, pinning and how to handle your fabric. You will make a fun tote while laying the foundation for all future projects. \nThere is no experience required and Sew is fully equipped with machines and all of the tools we will need. You only need to provide your fabric. \n 
URL:https://sewhouston.com/event/intro-to-sewing-5/
ATTACH;FMTTYPE=image/jpeg:https://sewhouston.com/cms/wp-content/uploads/2015/02/IMG_4115.jpg
END:VEVENT
BEGIN:VEVENT
DTSTART;TZID=America/Chicago:20191226T120000
DTEND;TZID=America/Chicago:20191226T133000
DTSTAMP:20260422T014508
CREATED:20181126T163151Z
LAST-MODIFIED:20191209T145018Z
UID:3078-1577361600-1577367000@sewhouston.com
SUMMARY:Intro to Sewing
DESCRIPTION:Did you get a sewing machine for Christmas? Want to make a project? \nYou can learn the basics of sewing in this Intro. class. This lays the foundation for all future sewing projects and will get you confidently sewing in no time. In this class\, you will learn a bit of pattern reading\, how to cut pin and handle your fabric and you will leave with a bag you are proud of and the ability to make many more. \nIf you would like to learn to set up and care for your machine\, that is a 1-hour private lesson called a Sewing Machine orientation. The cost is $50\, can you will learn to thread\, change needles\, make bobbins\, clean your machine\, and what the various settings are for. Email me to book yours or ask a question yolanda@sewhouston.com \n 
URL:https://sewhouston.com/event/intro-to-sewing-6/
ATTACH;FMTTYPE=image/jpeg:https://sewhouston.com/cms/wp-content/uploads/2018/11/IMG_3552-scaled.jpg
END:VEVENT
BEGIN:VEVENT
DTSTART;TZID=America/Chicago:20191223T120000
DTEND;TZID=America/Chicago:20191223T150000
DTSTAMP:20260422T014508
CREATED:20191210T205211Z
LAST-MODIFIED:20191216T183000Z
UID:4012-1577102400-1577113200@sewhouston.com
SUMMARY:Teen/Tween Sew
DESCRIPTION:If you have a teen or a tween interested in sewing clothes\, this is a great beginner class for them. We will be making a sweatshirt/sweater. There is no experience necessary and sewing machines are provided.
URL:https://sewhouston.com/event/teen-tween-sew/
ATTACH;FMTTYPE=image/jpeg:https://sewhouston.com/cms/wp-content/uploads/2016/12/IMG_2431-e1483487875272-1-scaled.jpg
END:VEVENT
BEGIN:VEVENT
DTSTART;TZID=America/Chicago:20191223T100000
DTEND;TZID=America/Chicago:20191223T113000
DTSTAMP:20260422T014508
CREATED:20191205T000619Z
LAST-MODIFIED:20191223T032611Z
UID:3996-1577095200-1577100600@sewhouston.com
SUMMARY:Kid Sew
DESCRIPTION:Looking for something fun for your 8-12 year old to do over Christmas Break? In this class we will make a fleece scarf. There is absolutely no experience necessary. Sew is fully equipped with sewing machines\, all students need to bring is 2 yards of fleece.
URL:https://sewhouston.com/event/kid-sew/
ATTACH;FMTTYPE=image/jpeg:https://sewhouston.com/cms/wp-content/uploads/2019/12/IMG_4353-scaled.jpg
END:VEVENT
BEGIN:VEVENT
DTSTART;TZID=UTC:20191208T120000
DTEND;TZID=UTC:20191208T140000
DTSTAMP:20260422T014508
CREATED:20150314T072109Z
LAST-MODIFIED:20191021T162510Z
UID:456-1575806400-1575813600@sewhouston.com
SUMMARY:Pajama class
DESCRIPTION:These comfy\, versatile pants make great gifts for kids\, grown ups\, men and women. Come make your new favorite pair of pajamas or boho pants. Makes a great private party too! \nWe use your measurements for this class\, so you will learn how to make pajamas without a pattern.
URL:https://sewhouston.com/event/pajama-class/
ATTACH;FMTTYPE=image/jpeg:https://sewhouston.com/cms/wp-content/uploads/2015/03/pajamas-2-scaled.jpg
END:VEVENT
BEGIN:VEVENT
DTSTART;TZID=America/Chicago:20191207T143000
DTEND;TZID=America/Chicago:20191207T160000
DTSTAMP:20260422T014508
CREATED:20191008T201719Z
LAST-MODIFIED:20191110T202434Z
UID:3918-1575729000-1575734400@sewhouston.com
SUMMARY:December Zip class
DESCRIPTION:Over come your fear of zippers and leave with a pair of throw pillows. This is a great class for anyone who new to zippers\, or needs a refresher. I promise you will be surprised at how easy it is!
URL:https://sewhouston.com/event/december-zip-class/
ATTACH;FMTTYPE=image/jpeg:https://sewhouston.com/cms/wp-content/uploads/2015/02/11005073_628306070635778_2081301947_n1.jpg
END:VEVENT
BEGIN:VEVENT
DTSTART;TZID=America/Chicago:20191126T120000
DTEND;TZID=America/Chicago:20191126T143000
DTSTAMP:20260422T014508
CREATED:20181126T232641Z
LAST-MODIFIED:20191118T214253Z
UID:3100-1574769600-1574778600@sewhouston.com
SUMMARY:Quillow class for kids
DESCRIPTION:Help your 8-13 year old get ready for the cold days ahead with a custom blanket. A quillow is a fluffy blanket that has a special pocket so it can become a pillow. Great for travel\, or around the house.
URL:https://sewhouston.com/event/quillow/
ATTACH;FMTTYPE=image/jpeg:https://sewhouston.com/cms/wp-content/uploads/2018/11/quillow-pillow-scaled.jpg
END:VEVENT
BEGIN:VEVENT
DTSTART;TZID=America/Chicago:20191110T120000
DTEND;TZID=America/Chicago:20191110T133000
DTSTAMP:20260422T014508
CREATED:20190617T194515Z
LAST-MODIFIED:20191110T163106Z
UID:3719-1573387200-1573392600@sewhouston.com
SUMMARY:Intro. to Sewing 11/10
DESCRIPTION:If you want to learn to sew\, this is the class for you. Here you will learn the fundamentals of sewing including\, basic pattern reading\, cutting\, pinning and how to handle your fabric. You will make a fun tote while laying the foundation for all future projects.\nThere is no experience required and Sew is fully equipped with machines and all of the tools we will need. You only need to provide your fabric.
URL:https://sewhouston.com/event/intro-to-sewing-7/
END:VEVENT
BEGIN:VEVENT
DTSTART;TZID=America/Chicago:20191109T100000
DTEND;TZID=America/Chicago:20191109T113000
DTSTAMP:20260422T014508
CREATED:20191008T201225Z
LAST-MODIFIED:20191008T201358Z
UID:3915-1573293600-1573299000@sewhouston.com
SUMMARY:November Intro. to Sewing
DESCRIPTION:If you want to learn to sew\, this is the class for you. Here you will learn the fundamentals of sewing including\, basic pattern reading\, cutting\, pinning and how to handle your fabric. You will make a fun tote while laying the foundation for all future projects.\nThere is no experience required and Sew is fully equipped with machines and all of the tools we will need. You only need to provide your fabric.
URL:https://sewhouston.com/event/november-intro-to-sewing/
ATTACH;FMTTYPE=image/jpeg:https://sewhouston.com/cms/wp-content/uploads/2015/02/IMG_4115.jpg
END:VEVENT
BEGIN:VEVENT
DTSTART;TZID=America/Chicago:20191012T140000
DTEND;TZID=America/Chicago:20191012T160000
DTSTAMP:20260422T014508
CREATED:20170605T190135Z
LAST-MODIFIED:20190904T162038Z
UID:1837-1570888800-1570896000@sewhouston.com
SUMMARY:Intro. to Knits  - Tshirt class
DESCRIPTION:If you are nervous about knits\, this is the class for you!  We will be making a simple t-shirt. You will learn how to sewing knits with ease and learn some techniques that will help you sew knit garments in the future. \nSew is fully equipped will sewing studio with sewing machines and all supplies. You only need to bring 1.5 yards of a stretch fabric. \nAbsolutely no experience is necessary.
URL:https://sewhouston.com/event/intro-to-knits-tshirt-class/
ATTACH;FMTTYPE=image/jpeg:https://sewhouston.com/cms/wp-content/uploads/2017/05/IMG_4342-scaled.jpg
END:VEVENT
BEGIN:VEVENT
DTSTART;TZID=America/Chicago:20191012T120000
DTEND;TZID=America/Chicago:20191012T133000
DTSTAMP:20260422T014508
CREATED:20190819T203617Z
LAST-MODIFIED:20190819T205054Z
UID:3835-1570881600-1570887000@sewhouston.com
SUMMARY:Private Girl Scout Event
DESCRIPTION:Let’s get together for a fun afternoon of sewing. We will be sewing pillowcases. There is absolutely no experience necessary for this machine sewing project.
URL:https://sewhouston.com/event/private-girl-scout-event-4/
ATTACH;FMTTYPE=image/jpeg:https://sewhouston.com/cms/wp-content/uploads/2018/02/IMG_0080-scaled.jpg
END:VEVENT
BEGIN:VEVENT
DTSTART;TZID=America/Chicago:20191012T100000
DTEND;TZID=America/Chicago:20191012T113000
DTSTAMP:20260422T014508
CREATED:20190819T203141Z
LAST-MODIFIED:20190819T203141Z
UID:3832-1570874400-1570879800@sewhouston.com
SUMMARY:October Intro. to Sewing
DESCRIPTION:If you want to learn to sew\, this is the class for you. Here you will learn the fundamentals of sewing including\, basic pattern reading\, cutting\, pinning and how to handle your fabric. You will make a fun tote while laying the foundation for all future projects.\nThere is no experience required and Sew is fully equipped with machines and all of the tools we will need. You only need to provide your fabric.
URL:https://sewhouston.com/event/october-intro-to-sewing/
ATTACH;FMTTYPE=image/jpeg:https://sewhouston.com/cms/wp-content/uploads/2018/11/IMG_3552-scaled.jpg
END:VEVENT
END:VCALENDAR