BEGIN:VCALENDAR
VERSION:2.0
PRODID:-// - ECPv6.15.20//NONSGML v1.0//EN
CALSCALE:GREGORIAN
METHOD:PUBLISH
X-ORIGINAL-URL:https://sewhouston.com
X-WR-CALDESC:Events for 
REFRESH-INTERVAL;VALUE=DURATION:PT1H
X-Robots-Tag:noindex
X-PUBLISHED-TTL:PT1H
BEGIN:VTIMEZONE
TZID:America/Chicago
BEGIN:DAYLIGHT
TZOFFSETFROM:-0600
TZOFFSETTO:-0500
TZNAME:CDT
DTSTART:20190310T080000
END:DAYLIGHT
BEGIN:STANDARD
TZOFFSETFROM:-0500
TZOFFSETTO:-0600
TZNAME:CST
DTSTART:20191103T070000
END:STANDARD
BEGIN:DAYLIGHT
TZOFFSETFROM:-0600
TZOFFSETTO:-0500
TZNAME:CDT
DTSTART:20200308T080000
END:DAYLIGHT
BEGIN:STANDARD
TZOFFSETFROM:-0500
TZOFFSETTO:-0600
TZNAME:CST
DTSTART:20201101T070000
END:STANDARD
BEGIN:DAYLIGHT
TZOFFSETFROM:-0600
TZOFFSETTO:-0500
TZNAME:CDT
DTSTART:20210314T080000
END:DAYLIGHT
BEGIN:STANDARD
TZOFFSETFROM:-0500
TZOFFSETTO:-0600
TZNAME:CST
DTSTART:20211107T070000
END:STANDARD
END:VTIMEZONE
BEGIN:VTIMEZONE
TZID:UTC
BEGIN:STANDARD
TZOFFSETFROM:+0000
TZOFFSETTO:+0000
TZNAME:UTC
DTSTART:20190101T000000
END:STANDARD
END:VTIMEZONE
BEGIN:VEVENT
DTSTART;TZID=America/Chicago:20201001T100000
DTEND;TZID=America/Chicago:20201001T160000
DTSTAMP:20260421T215452
CREATED:20200908T130957Z
LAST-MODIFIED:20200908T130957Z
UID:4417-1601546400-1601568000@sewhouston.com
SUMMARY:Custom Schedule
DESCRIPTION:Do you have a group or quarantine pod that would like to come in together? I would be happy to set up a customized schedule\, or a single class for children\, adults or a combination. \nEmail me yolanda@sewhouston.com to discuss. \nPricing is as follows: \nSingle class $20/hour per person \nSemester (3-6 students) $16/hour per person
URL:https://sewhouston.com/event/custom-schedule/
ATTACH;FMTTYPE=image/jpeg:https://sewhouston.com/cms/wp-content/uploads/2018/06/IMG_2718.jpg
END:VEVENT
BEGIN:VEVENT
DTSTART;TZID=America/Chicago:20201003T120000
DTEND;TZID=America/Chicago:20201003T133000
DTSTAMP:20260421T215452
CREATED:20200903T180803Z
LAST-MODIFIED:20200908T140635Z
UID:4399-1601726400-1601731800@sewhouston.com
SUMMARY:Girl Scout Private event
DESCRIPTION:This is a private sewing event for a local GS troop 110052 only. We will be learning to make masks.
URL:https://sewhouston.com/event/girl-scout-private-event/
ATTACH;FMTTYPE=image/jpeg:https://sewhouston.com/cms/wp-content/uploads/2020/09/masks-small.jpg
END:VEVENT
BEGIN:VEVENT
DTSTART;TZID=America/Chicago:20201003T140000
DTEND;TZID=America/Chicago:20201003T163000
DTSTAMP:20260421T215452
CREATED:20200928T141739Z
LAST-MODIFIED:20200928T141909Z
UID:4453-1601733600-1601742600@sewhouston.com
SUMMARY:Private group - dog bed
DESCRIPTION:This class is perfect for beginners and experienced seamstresses alike. In this class we will make a round floor pouf that is great for a reading nook\, as a pet bed\, or a meditation pillow. \nAbsolutely no experience is necessary.  Please see supply list below
URL:https://sewhouston.com/event/private-group-dog-bed/
ATTACH;FMTTYPE=image/jpeg:https://sewhouston.com/cms/wp-content/uploads/2015/02/10598595_633769970102347_429599962_n4.jpg
END:VEVENT
BEGIN:VEVENT
DTSTART;TZID=America/Chicago:20201007T110000
DTEND;TZID=America/Chicago:20201007T123000
DTSTAMP:20260421T215452
CREATED:20160819T123917Z
LAST-MODIFIED:20200908T131208Z
UID:1277-1602068400-1602073800@sewhouston.com
SUMMARY:AM Homeschool
DESCRIPTION:Sewing is a great creative outlet\, and a lot of fun while also teaching problem solving and math skills. In this semester  we will make a variety of fashion\, home décor and seasonal projects. At our first meeting\, we will decide on or projects\, which often include pajamas\, altered clothing\, pillows or stuffed animals and much more. \nSemester Cost $150/9 hours of instruction. Payable in 3 payments of $50. \nClass Dates: \nOctober 7th \nOct. 21 \nNov. 4 \nNov. 18 \nDec. 2 \nDec. 16
URL:https://sewhouston.com/event/1277/
ATTACH;FMTTYPE=image/jpeg:https://sewhouston.com/cms/wp-content/uploads/2017/12/IMG_2333-scaled.jpg
END:VEVENT
BEGIN:VEVENT
DTSTART;TZID=America/Chicago:20201007T140000
DTEND;TZID=America/Chicago:20201007T153000
DTSTAMP:20260421T215452
CREATED:20200908T130412Z
LAST-MODIFIED:20200930T151413Z
UID:4413-1602079200-1602084600@sewhouston.com
SUMMARY:Mid-afternoon
DESCRIPTION:In this semester\, students of all experience levels we will sew their way through a variety of home décor\, seasonal and fashion projects. No experience is necessary and sewing machines are provided. Students only need to bring fabric\, and stuffing. \nThe cost for the semester is $150 payable in 3 payments of $50. \nClass Dates: \nOctober 7th\nOctober 21st\nNovember 4th\nNovember 18th\nDecember 2nd\nDecember 16th
URL:https://sewhouston.com/event/4413/
ATTACH;FMTTYPE=image/jpeg:https://sewhouston.com/cms/wp-content/uploads/2018/08/camp.jpg
END:VEVENT
BEGIN:VEVENT
DTSTART;TZID=America/Chicago:20201007T173000
DTEND;TZID=America/Chicago:20201007T190000
DTSTAMP:20260421T215452
CREATED:20180718T204358Z
LAST-MODIFIED:20200908T125957Z
UID:2774-1602091800-1602097200@sewhouston.com
SUMMARY:Wednesday Afterschool
DESCRIPTION:In this semester\, students of all experience levels we will sew their way through a variety of home décor\, seasonal and fashion projects. No experience is necessary and sewing machines are provided. Students only need to bring fabric\, and stuffing. \nThe start time of this class is flexible. If you would prefer a late start time\, please email me yolanda@sewhouston.com \nThe cost for the semester is $150 payable in 3 payments of $50. \nClass Dates: \nOctober 7th\nOctober 21st\nNovember 4th\nNovember 18th\nDecember 2nd\nDecember 16th \n 
URL:https://sewhouston.com/event/wednesday-afterschool/
ATTACH;FMTTYPE=image/jpeg:https://sewhouston.com/cms/wp-content/uploads/2018/07/IMG_4811-scaled.jpg
END:VEVENT
BEGIN:VEVENT
DTSTART;TZID=UTC:20201010T130000
DTEND;TZID=UTC:20201010T143000
DTSTAMP:20260421T215452
CREATED:20150813T192454Z
LAST-MODIFIED:20200928T150211Z
UID:665-1602334800-1602340200@sewhouston.com
SUMMARY:Trick or treat bag
DESCRIPTION:This bag is super cute and a synch to make\, not to mention sturdy enough to hold all of that candy! \nGreat for beginners of all ages. Does not have to be Halloween themed. \n 
URL:https://sewhouston.com/event/trick-or-treat-bag/
ATTACH;FMTTYPE=image/jpeg:https://sewhouston.com/cms/wp-content/uploads/2015/08/trick-or-treat-bag2.jpg
END:VEVENT
END:VCALENDAR