BEGIN:VCALENDAR
VERSION:2.0
PRODID:-// - ECPv6.15.20//NONSGML v1.0//EN
CALSCALE:GREGORIAN
METHOD:PUBLISH
X-ORIGINAL-URL:https://sewhouston.com
X-WR-CALDESC:Events for 
REFRESH-INTERVAL;VALUE=DURATION:PT1H
X-Robots-Tag:noindex
X-PUBLISHED-TTL:PT1H
BEGIN:VTIMEZONE
TZID:America/Chicago
BEGIN:DAYLIGHT
TZOFFSETFROM:-0600
TZOFFSETTO:-0500
TZNAME:CDT
DTSTART:20190310T080000
END:DAYLIGHT
BEGIN:STANDARD
TZOFFSETFROM:-0500
TZOFFSETTO:-0600
TZNAME:CST
DTSTART:20191103T070000
END:STANDARD
BEGIN:DAYLIGHT
TZOFFSETFROM:-0600
TZOFFSETTO:-0500
TZNAME:CDT
DTSTART:20200308T080000
END:DAYLIGHT
BEGIN:STANDARD
TZOFFSETFROM:-0500
TZOFFSETTO:-0600
TZNAME:CST
DTSTART:20201101T070000
END:STANDARD
BEGIN:DAYLIGHT
TZOFFSETFROM:-0600
TZOFFSETTO:-0500
TZNAME:CDT
DTSTART:20210314T080000
END:DAYLIGHT
BEGIN:STANDARD
TZOFFSETFROM:-0500
TZOFFSETTO:-0600
TZNAME:CST
DTSTART:20211107T070000
END:STANDARD
END:VTIMEZONE
BEGIN:VEVENT
DTSTART;TZID=America/Chicago:20201204T180000
DTEND;TZID=America/Chicago:20201204T193000
DTSTAMP:20260421T213511
CREATED:20201021T191230Z
LAST-MODIFIED:20201111T165132Z
UID:4481-1607104800-1607110200@sewhouston.com
SUMMARY:Private Event - Girl Scout Troop 11015
DESCRIPTION:Come have some crafty fun sewing with your Troop 11015. We will be making a craft apron. \nThere is no experience necessary and all materials and supplies are provided.
URL:https://sewhouston.com/event/private-girl-scout-event-5/
ATTACH;FMTTYPE=image/jpeg:https://sewhouston.com/cms/wp-content/uploads/2020/10/craft-apron.jpg
END:VEVENT
BEGIN:VEVENT
DTSTART;TZID=America/Chicago:20201206T120000
DTEND;TZID=America/Chicago:20201206T150000
DTSTAMP:20260421T213511
CREATED:20201116T202532Z
LAST-MODIFIED:20201203T150113Z
UID:4503-1607256000-1607266800@sewhouston.com
SUMMARY:Mini Porch
DESCRIPTION:In this fun crafting session\, students will build a front porch\, decorate it\, and add lighting. This is perfect for anyone who is interested in miniatures\, or has taken Dollhouse camp. We will dress the porch up for Christmas with a tree\, and wreath and packages\, but it can be dressed up for any season or occasion in the future. \nAll materials provided\, but participants are welcome to bring miniatures of their own if they have something they want on their porch. \n 
URL:https://sewhouston.com/event/mini-porch/
ATTACH;FMTTYPE=image/jpeg:https://sewhouston.com/cms/wp-content/uploads/2020/11/porch-1.jpg
END:VEVENT
BEGIN:VEVENT
DTSTART;TZID=America/Chicago:20201221T100000
DTEND;TZID=America/Chicago:20201223T120000
DTSTAMP:20260421T213511
CREATED:20201128T164810Z
LAST-MODIFIED:20201128T164837Z
UID:4557-1608544800-1608724800@sewhouston.com
SUMMARY:Kid's camp
DESCRIPTION:This camp is for ages 8-13. We will make an array of small projects including a pair of pajamas and a scarf. \nNo experience necessary
URL:https://sewhouston.com/event/kids-camp/
ATTACH;FMTTYPE=image/jpeg:https://sewhouston.com/cms/wp-content/uploads/2016/08/IMG_9417-scaled.jpg
END:VEVENT
BEGIN:VEVENT
DTSTART;TZID=America/Chicago:20201221T130000
DTEND;TZID=America/Chicago:20201223T150000
DTSTAMP:20260421T213511
CREATED:20201203T152324Z
LAST-MODIFIED:20201220T163335Z
UID:4587-1608555600-1608735600@sewhouston.com
SUMMARY:Teen/tween camp
DESCRIPTION:This class is for girls 12 and up interested in fashion sewing. We will be making a fun top and possibly a few accessories if time allows. \nPerfect for beginners. My class sizes are small\, so everyone can work at their own level\, and there will be a mix of experienced and beginner sewists. \n 
URL:https://sewhouston.com/event/teen-tween-camp/
ATTACH;FMTTYPE=image/jpeg:https://sewhouston.com/cms/wp-content/uploads/2016/09/IMG_0964.jpg
END:VEVENT
BEGIN:VEVENT
DTSTART;TZID=America/Chicago:20201228T100000
DTEND;TZID=America/Chicago:20201230T120000
DTSTAMP:20260421T213511
CREATED:20201210T133238Z
LAST-MODIFIED:20201210T133625Z
UID:4619-1609149600-1609329600@sewhouston.com
SUMMARY:Mini Camp
DESCRIPTION:This camp is for sewists age 7-12. We will make a variety of projects including a stuffed animal\, and a pillowcase. Students will have time to make a project of their choosing as well. \nThis is for beginners and experienced sewists. There is no experience necessary. \nPlease feel free to email me yolanda@sewhouston.com with any questions
URL:https://sewhouston.com/event/mini-camp/
ATTACH;FMTTYPE=image/jpeg:https://sewhouston.com/cms/wp-content/uploads/2019/02/IMG_1923-scaled.jpg
END:VEVENT
BEGIN:VEVENT
DTSTART;TZID=America/Chicago:20201228T130000
DTEND;TZID=America/Chicago:20201230T150000
DTSTAMP:20260421T213511
CREATED:20201210T133909Z
LAST-MODIFIED:20201210T133909Z
UID:4623-1609160400-1609340400@sewhouston.com
SUMMARY:Fashion camp
DESCRIPTION:This camp is for ages 10 and up interested in fashion sewing. We will be making a sweatshirt from a pattern. \nThere is absolutely no experience necessary.
URL:https://sewhouston.com/event/fashion-camp/
ATTACH;FMTTYPE=image/jpeg:https://sewhouston.com/cms/wp-content/uploads/2016/12/IMG_2431-e1483487875272-1-scaled.jpg
END:VEVENT
END:VCALENDAR