BEGIN:VCALENDAR
VERSION:2.0
PRODID:-// - ECPv6.15.20//NONSGML v1.0//EN
CALSCALE:GREGORIAN
METHOD:PUBLISH
X-ORIGINAL-URL:https://sewhouston.com
X-WR-CALDESC:Events for 
REFRESH-INTERVAL;VALUE=DURATION:PT1H
X-Robots-Tag:noindex
X-PUBLISHED-TTL:PT1H
BEGIN:VTIMEZONE
TZID:America/Chicago
BEGIN:DAYLIGHT
TZOFFSETFROM:-0600
TZOFFSETTO:-0500
TZNAME:CDT
DTSTART:20240310T080000
END:DAYLIGHT
BEGIN:STANDARD
TZOFFSETFROM:-0500
TZOFFSETTO:-0600
TZNAME:CST
DTSTART:20241103T070000
END:STANDARD
BEGIN:DAYLIGHT
TZOFFSETFROM:-0600
TZOFFSETTO:-0500
TZNAME:CDT
DTSTART:20250309T080000
END:DAYLIGHT
BEGIN:STANDARD
TZOFFSETFROM:-0500
TZOFFSETTO:-0600
TZNAME:CST
DTSTART:20251102T070000
END:STANDARD
BEGIN:DAYLIGHT
TZOFFSETFROM:-0600
TZOFFSETTO:-0500
TZNAME:CDT
DTSTART:20260308T080000
END:DAYLIGHT
BEGIN:STANDARD
TZOFFSETFROM:-0500
TZOFFSETTO:-0600
TZNAME:CST
DTSTART:20261101T070000
END:STANDARD
END:VTIMEZONE
BEGIN:VEVENT
DTSTART;TZID=America/Chicago:20250910T130000
DTEND;TZID=America/Chicago:20250910T143000
DTSTAMP:20260421T083445
CREATED:20250410T151808Z
LAST-MODIFIED:20250410T151808Z
UID:8604-1757509200-1757514600@sewhouston.com
SUMMARY:Wednesday Homeschool
DESCRIPTION:This is a group for homeschoolers of all ages and experience levels. Since groups are never more than 6\, everyone is able to work at their own level on projects that they are interested in. Absolute beginners and experienced sewists are welcome. \nWe will meet from 1-2:30 on the following dates: \nSept. 10 \nSept. 24 \nOct. 8 \nOct. 23 \nNov. 5 \nNov. 19 \nClasses are $30/hour\, which is $ $270 for the semester. Payments can be made in 3 installments\, one online to secure your spot\, then $90 on Sept 10 and $90 on Oct 8.
URL:https://sewhouston.com/event/wednesday-homeschool/
ATTACH;FMTTYPE=image/png:https://sewhouston.com/cms/wp-content/uploads/2024/10/6.png
END:VEVENT
END:VCALENDAR