BEGIN:VCALENDAR
VERSION:2.0
PRODID:-// - ECPv6.15.20//NONSGML v1.0//EN
CALSCALE:GREGORIAN
METHOD:PUBLISH
X-ORIGINAL-URL:https://sewhouston.com
X-WR-CALDESC:Events for 
REFRESH-INTERVAL;VALUE=DURATION:PT1H
X-Robots-Tag:noindex
X-PUBLISHED-TTL:PT1H
BEGIN:VTIMEZONE
TZID:America/Chicago
BEGIN:DAYLIGHT
TZOFFSETFROM:-0600
TZOFFSETTO:-0500
TZNAME:CDT
DTSTART:20240310T080000
END:DAYLIGHT
BEGIN:STANDARD
TZOFFSETFROM:-0500
TZOFFSETTO:-0600
TZNAME:CST
DTSTART:20241103T070000
END:STANDARD
BEGIN:DAYLIGHT
TZOFFSETFROM:-0600
TZOFFSETTO:-0500
TZNAME:CDT
DTSTART:20250309T080000
END:DAYLIGHT
BEGIN:STANDARD
TZOFFSETFROM:-0500
TZOFFSETTO:-0600
TZNAME:CST
DTSTART:20251102T070000
END:STANDARD
BEGIN:DAYLIGHT
TZOFFSETFROM:-0600
TZOFFSETTO:-0500
TZNAME:CDT
DTSTART:20260308T080000
END:DAYLIGHT
BEGIN:STANDARD
TZOFFSETFROM:-0500
TZOFFSETTO:-0600
TZNAME:CST
DTSTART:20261101T070000
END:STANDARD
END:VTIMEZONE
BEGIN:VEVENT
DTSTART;TZID=America/Chicago:20250531T100000
DTEND;TZID=America/Chicago:20250531T113000
DTSTAMP:20260425T093418
CREATED:20250422T030250Z
LAST-MODIFIED:20250422T030250Z
UID:8638-1748685600-1748691000@sewhouston.com
SUMMARY:May 31 Intro.
DESCRIPTION:If you want to learn to sew\, or just need a refresher\, this is the class for you. Here you will learn the basics of sewing while making a tote. This class will provide the foundation for all future projects.\nMany people feel that they need to take a private lesson\, but I promise you\, when it comes to the Intro\, this small group class is the best. Most people are absolute beginners\, and you will benefit from their questions and observations as well. Class size is never more than 6. Great for all ages.\nSewing machines and all tools are provided. \nSUPPLIES: \n1/2 yard cotton for outside\n1/2 yard cotton for lining \ncan be purchased at Sew for $14
URL:https://sewhouston.com/event/may-31-intro/
ATTACH;FMTTYPE=image/png:https://sewhouston.com/cms/wp-content/uploads/2024/10/sewing_machine_orientation.png
END:VEVENT
END:VCALENDAR