BEGIN:VCALENDAR
VERSION:2.0
PRODID:-// - ECPv6.15.20//NONSGML v1.0//EN
CALSCALE:GREGORIAN
METHOD:PUBLISH
X-ORIGINAL-URL:https://sewhouston.com
X-WR-CALDESC:Events for 
REFRESH-INTERVAL;VALUE=DURATION:PT1H
X-Robots-Tag:noindex
X-PUBLISHED-TTL:PT1H
BEGIN:VTIMEZONE
TZID:UTC
BEGIN:STANDARD
TZOFFSETFROM:+0000
TZOFFSETTO:+0000
TZNAME:UTC
DTSTART:20140101T000000
END:STANDARD
END:VTIMEZONE
BEGIN:VEVENT
DTSTART;TZID=UTC:20150916T100000
DTEND;TZID=UTC:20150916T120000
DTSTAMP:20260420T211233
CREATED:20150908T214923Z
LAST-MODIFIED:20150908T215339Z
UID:703-1442397600-1442404800@sewhouston.com
SUMMARY:AM Homeschool Group
DESCRIPTION:Homeschoolers are always welcome at Sew. Sewing is a great way to make new friends while having fun and using your brain. \nThis group will meet 10-12 on the following Wednesdays: \n\nSept. 16th\nSept. 30\nOct. 14th\nOct. 28\nNov. 11\nDec 2\nDec. 16\n\nThe cost for the semester is $150 + materials. Tuition may be paid at once\, or in 3 installments.
URL:https://sewhouston.com/event/homeschool-group-wednesday-mornings-10-12/
END:VEVENT
END:VCALENDAR